BEGIN:VCALENDAR
VERSION:2.0
PRODID:-//Surety Association of San Diego - ECPv6.15.20//NONSGML v1.0//EN
CALSCALE:GREGORIAN
METHOD:PUBLISH
X-ORIGINAL-URL:https://www.suretysandiego.org
X-WR-CALDESC:Events for Surety Association of San Diego
REFRESH-INTERVAL;VALUE=DURATION:PT1H
X-Robots-Tag:noindex
X-PUBLISHED-TTL:PT1H
BEGIN:VTIMEZONE
TZID:America/Los_Angeles
BEGIN:DAYLIGHT
TZOFFSETFROM:-0800
TZOFFSETTO:-0700
TZNAME:PDT
DTSTART:20170312T100000
END:DAYLIGHT
BEGIN:STANDARD
TZOFFSETFROM:-0700
TZOFFSETTO:-0800
TZNAME:PST
DTSTART:20171105T090000
END:STANDARD
BEGIN:DAYLIGHT
TZOFFSETFROM:-0800
TZOFFSETTO:-0700
TZNAME:PDT
DTSTART:20180311T100000
END:DAYLIGHT
BEGIN:STANDARD
TZOFFSETFROM:-0700
TZOFFSETTO:-0800
TZNAME:PST
DTSTART:20181104T090000
END:STANDARD
BEGIN:DAYLIGHT
TZOFFSETFROM:-0800
TZOFFSETTO:-0700
TZNAME:PDT
DTSTART:20190310T100000
END:DAYLIGHT
BEGIN:STANDARD
TZOFFSETFROM:-0700
TZOFFSETTO:-0800
TZNAME:PST
DTSTART:20191103T090000
END:STANDARD
BEGIN:DAYLIGHT
TZOFFSETFROM:-0800
TZOFFSETTO:-0700
TZNAME:PDT
DTSTART:20200308T100000
END:DAYLIGHT
BEGIN:STANDARD
TZOFFSETFROM:-0700
TZOFFSETTO:-0800
TZNAME:PST
DTSTART:20201101T090000
END:STANDARD
BEGIN:DAYLIGHT
TZOFFSETFROM:-0800
TZOFFSETTO:-0700
TZNAME:PDT
DTSTART:20210314T100000
END:DAYLIGHT
BEGIN:STANDARD
TZOFFSETFROM:-0700
TZOFFSETTO:-0800
TZNAME:PST
DTSTART:20211107T090000
END:STANDARD
BEGIN:DAYLIGHT
TZOFFSETFROM:-0800
TZOFFSETTO:-0700
TZNAME:PDT
DTSTART:20220313T100000
END:DAYLIGHT
BEGIN:STANDARD
TZOFFSETFROM:-0700
TZOFFSETTO:-0800
TZNAME:PST
DTSTART:20221106T090000
END:STANDARD
BEGIN:DAYLIGHT
TZOFFSETFROM:-0800
TZOFFSETTO:-0700
TZNAME:PDT
DTSTART:20230312T100000
END:DAYLIGHT
BEGIN:STANDARD
TZOFFSETFROM:-0700
TZOFFSETTO:-0800
TZNAME:PST
DTSTART:20231105T090000
END:STANDARD
BEGIN:DAYLIGHT
TZOFFSETFROM:-0800
TZOFFSETTO:-0700
TZNAME:PDT
DTSTART:20240310T100000
END:DAYLIGHT
BEGIN:STANDARD
TZOFFSETFROM:-0700
TZOFFSETTO:-0800
TZNAME:PST
DTSTART:20241103T090000
END:STANDARD
BEGIN:DAYLIGHT
TZOFFSETFROM:-0800
TZOFFSETTO:-0700
TZNAME:PDT
DTSTART:20250309T100000
END:DAYLIGHT
BEGIN:STANDARD
TZOFFSETFROM:-0700
TZOFFSETTO:-0800
TZNAME:PST
DTSTART:20251102T090000
END:STANDARD
END:VTIMEZONE
BEGIN:VEVENT
DTSTART;VALUE=DATE:20240620
DTEND;VALUE=DATE:20240621
DTSTAMP:20260423T112212
CREATED:20240312T180857Z
LAST-MODIFIED:20240312T180857Z
UID:948-1718841600-1718927999@www.suretysandiego.org
SUMMARY:Annual Golf Tournament
DESCRIPTION:
URL:https://www.suretysandiego.org/event/annual-golf-tournament/
LOCATION:Rancho Bernardo Inn\, 17550 Bernardo Oaks Dr.\, San Diego\, CA\, 92128\, United States
CATEGORIES:Golf
END:VEVENT
BEGIN:VEVENT
DTSTART;TZID=America/Los_Angeles:20201009T080000
DTEND;TZID=America/Los_Angeles:20201009T150000
DTSTAMP:20260423T112212
CREATED:20200208T002420Z
LAST-MODIFIED:20200623T211218Z
UID:428-1602230400-1602255600@www.suretysandiego.org
SUMMARY:CANCELLED - SASD Golf Event
DESCRIPTION:
URL:https://www.suretysandiego.org/event/surety-association-of-san-diego-golf-event-2/
LOCATION:The Crossings\, 5800 The Crossings Dr.\, Carlsbad\, CA\, 92008\, United States
CATEGORIES:Golf
END:VEVENT
BEGIN:VEVENT
DTSTART;TZID=America/Los_Angeles:20190621T010000
DTEND;TZID=America/Los_Angeles:20190621T070000
DTSTAMP:20260423T112212
CREATED:20190214T134013Z
LAST-MODIFIED:20190214T134823Z
UID:351-1561078800-1561100400@www.suretysandiego.org
SUMMARY:Surety Association of San Diego Golf Event
DESCRIPTION:
URL:https://www.suretysandiego.org/event/surety-association-of-san-diego-golf-event/
LOCATION:The Crossings\, 5800 The Crossings Dr.\, Carlsbad\, CA\, 92008\, United States
CATEGORIES:Golf
ORGANIZER;CN="Megan Sanker":MAILTO:megan.sanker@cnasurety.com
END:VEVENT
BEGIN:VEVENT
DTSTART;TZID=America/Los_Angeles:20180622T010000
DTEND;TZID=America/Los_Angeles:20180622T070000
DTSTAMP:20260423T112212
CREATED:20180124T145615Z
LAST-MODIFIED:20180621T104054Z
UID:290-1529629200-1529650800@www.suretysandiego.org
SUMMARY:Surety Association of San Diego Golf Event
DESCRIPTION:Options\n\n\nGolf & Banquet $125.00 USDBanquet Only $40.00 USDHole Sponsorship $100.00 USD
URL:https://www.suretysandiego.org/event/surety-association-san-diego-golf-event-2/
LOCATION:Riverwalk Golf Course\, 1150 Fashion Valley Rd.\, San Diego\, CA\, 92108\, United States
CATEGORIES:Golf
ATTACH;FMTTYPE=image/jpeg:https://www.suretysandiego.org/wp-content/uploads/2018/01/Riverwalk-Golf-Course-1.jpg
ORGANIZER;CN="Megan Sanker":MAILTO:megan.sanker@cnasurety.com
END:VEVENT
END:VCALENDAR