BEGIN:VCALENDAR
VERSION:2.0
PRODID:-//Surety Association of San Diego - ECPv6.15.20//NONSGML v1.0//EN
CALSCALE:GREGORIAN
METHOD:PUBLISH
X-ORIGINAL-URL:https://www.suretysandiego.org
X-WR-CALDESC:Events for Surety Association of San Diego
REFRESH-INTERVAL;VALUE=DURATION:PT1H
X-Robots-Tag:noindex
X-PUBLISHED-TTL:PT1H
BEGIN:VTIMEZONE
TZID:America/Los_Angeles
BEGIN:DAYLIGHT
TZOFFSETFROM:-0800
TZOFFSETTO:-0700
TZNAME:PDT
DTSTART:20170312T100000
END:DAYLIGHT
BEGIN:STANDARD
TZOFFSETFROM:-0700
TZOFFSETTO:-0800
TZNAME:PST
DTSTART:20171105T090000
END:STANDARD
BEGIN:DAYLIGHT
TZOFFSETFROM:-0800
TZOFFSETTO:-0700
TZNAME:PDT
DTSTART:20180311T100000
END:DAYLIGHT
BEGIN:STANDARD
TZOFFSETFROM:-0700
TZOFFSETTO:-0800
TZNAME:PST
DTSTART:20181104T090000
END:STANDARD
BEGIN:DAYLIGHT
TZOFFSETFROM:-0800
TZOFFSETTO:-0700
TZNAME:PDT
DTSTART:20190310T100000
END:DAYLIGHT
BEGIN:STANDARD
TZOFFSETFROM:-0700
TZOFFSETTO:-0800
TZNAME:PST
DTSTART:20191103T090000
END:STANDARD
BEGIN:DAYLIGHT
TZOFFSETFROM:-0800
TZOFFSETTO:-0700
TZNAME:PDT
DTSTART:20200308T100000
END:DAYLIGHT
BEGIN:STANDARD
TZOFFSETFROM:-0700
TZOFFSETTO:-0800
TZNAME:PST
DTSTART:20201101T090000
END:STANDARD
BEGIN:DAYLIGHT
TZOFFSETFROM:-0800
TZOFFSETTO:-0700
TZNAME:PDT
DTSTART:20210314T100000
END:DAYLIGHT
BEGIN:STANDARD
TZOFFSETFROM:-0700
TZOFFSETTO:-0800
TZNAME:PST
DTSTART:20211107T090000
END:STANDARD
END:VTIMEZONE
BEGIN:VEVENT
DTSTART;TZID=America/Los_Angeles:20200908T113000
DTEND;TZID=America/Los_Angeles:20200908T140000
DTSTAMP:20260423T142236
CREATED:20200208T002527Z
LAST-MODIFIED:20200623T211157Z
UID:430-1599564600-1599573600@www.suretysandiego.org
SUMMARY:CANCELLED - Fall Luncheon
DESCRIPTION:
URL:https://www.suretysandiego.org/event/fall-luncheon-2/
LOCATION:Tom Ham’s Lighthouse\, 2150 Harbor Island Dr\, San Diego\, CA\, 92101\, United States
CATEGORIES:Lunch
ATTACH;FMTTYPE=image/jpeg:https://www.suretysandiego.org/wp-content/uploads/2020/02/Tom-Hams-Lighthouse.jpg
END:VEVENT
BEGIN:VEVENT
DTSTART;TZID=America/Los_Angeles:20200505T113000
DTEND;TZID=America/Los_Angeles:20200505T140000
DTSTAMP:20260423T142236
CREATED:20200208T002256Z
LAST-MODIFIED:20200424T165254Z
UID:426-1588678200-1588687200@www.suretysandiego.org
SUMMARY:CANCELLED - Spring Luncheon
DESCRIPTION:
URL:https://www.suretysandiego.org/event/spring-luncheon-2/
LOCATION:Tom Ham’s Lighthouse\, 2150 Harbor Island Dr\, San Diego\, CA\, 92101\, United States
CATEGORIES:Lunch
END:VEVENT
BEGIN:VEVENT
DTSTART;TZID=America/Los_Angeles:20200319T113000
DTEND;TZID=America/Los_Angeles:20200319T140000
DTSTAMP:20260423T142236
CREATED:20200207T194505Z
LAST-MODIFIED:20200424T165229Z
UID:381-1584617400-1584626400@www.suretysandiego.org
SUMMARY:CANCELLED - Past Presidents Luncheon
DESCRIPTION:
URL:https://www.suretysandiego.org/event/past-presidents-luncheon-2/
LOCATION:Tom Ham’s Lighthouse\, 2150 Harbor Island Dr\, San Diego\, CA\, 92101\, United States
CATEGORIES:Lunch
ATTACH;FMTTYPE=image/jpeg:https://www.suretysandiego.org/wp-content/uploads/2020/02/Tom-Hams-Lighthouse.jpg
END:VEVENT
BEGIN:VEVENT
DTSTART;TZID=America/Los_Angeles:20190910T113000
DTEND;TZID=America/Los_Angeles:20190910T133000
DTSTAMP:20260423T142236
CREATED:20190214T134049Z
LAST-MODIFIED:20190614T102647Z
UID:354-1568115000-1568122200@www.suretysandiego.org
SUMMARY:Fall Luncheon
DESCRIPTION:
URL:https://www.suretysandiego.org/event/fall-luncheon/
LOCATION:Tom Ham’s Lighthouse\, 2150 Harbor Island Dr\, San Diego\, CA\, 92101\, United States
CATEGORIES:Lunch
END:VEVENT
BEGIN:VEVENT
DTSTART;TZID=America/Los_Angeles:20190514T043000
DTEND;TZID=America/Los_Angeles:20190514T063000
DTSTAMP:20260423T142236
CREATED:20190214T133659Z
LAST-MODIFIED:20190430T083630Z
UID:349-1557808200-1557815400@www.suretysandiego.org
SUMMARY:Spring Luncheon
DESCRIPTION:
URL:https://www.suretysandiego.org/event/spring-luncheon/
LOCATION:Tom Ham’s Lighthouse\, 2150 Harbor Island Dr\, San Diego\, CA\, 92101\, United States
CATEGORIES:Lunch
ORGANIZER;CN="Megan Sanker":MAILTO:megan.sanker@cnasurety.com
END:VEVENT
BEGIN:VEVENT
DTSTART;TZID=America/Los_Angeles:20190312T043000
DTEND;TZID=America/Los_Angeles:20190312T063000
DTSTAMP:20260423T142236
CREATED:20190214T133612Z
LAST-MODIFIED:20190430T083624Z
UID:347-1552365000-1552372200@www.suretysandiego.org
SUMMARY:Past Presidents Luncheon
DESCRIPTION:
URL:https://www.suretysandiego.org/event/past-presidents-luncheon/
LOCATION:Tom Ham’s Lighthouse\, 2150 Harbor Island Dr\, San Diego\, CA\, 92101\, United States
CATEGORIES:Lunch
ORGANIZER;CN="Megan Sanker":MAILTO:megan.sanker@cnasurety.com
END:VEVENT
BEGIN:VEVENT
DTSTART;TZID=America/Los_Angeles:20180927T043000
DTEND;TZID=America/Los_Angeles:20180927T063000
DTSTAMP:20260423T142236
CREATED:20180122T064852Z
LAST-MODIFIED:20180124T145706Z
UID:252-1538022600-1538029800@www.suretysandiego.org
SUMMARY:September Lunchon
DESCRIPTION:
URL:https://www.suretysandiego.org/event/lunchon-september-2018/
LOCATION:The Butcher Shop\, 5255 Kearny Villa Rd\, San Diego\, CA\, 92123\, United States
CATEGORIES:Lunch
ATTACH;FMTTYPE=image/jpeg:https://www.suretysandiego.org/wp-content/uploads/2018/01/The-Butcher-shop-1.jpg
ORGANIZER;CN="Megan Sanker":MAILTO:megan.sanker@cnasurety.com
END:VEVENT
BEGIN:VEVENT
DTSTART;TZID=America/Los_Angeles:20180515T043000
DTEND;TZID=America/Los_Angeles:20180515T063000
DTSTAMP:20260423T142236
CREATED:20180122T064741Z
LAST-MODIFIED:20180124T145703Z
UID:250-1526358600-1526365800@www.suretysandiego.org
SUMMARY:May Lunchon
DESCRIPTION:
URL:https://www.suretysandiego.org/event/lunchon-may-2018/
LOCATION:The Butcher Shop\, 5255 Kearny Villa Rd\, San Diego\, CA\, 92123\, United States
CATEGORIES:Lunch
ATTACH;FMTTYPE=image/jpeg:https://www.suretysandiego.org/wp-content/uploads/2018/01/The-Butcher-shop-1.jpg
ORGANIZER;CN="Megan Sanker":MAILTO:megan.sanker@cnasurety.com
END:VEVENT
BEGIN:VEVENT
DTSTART;TZID=America/Los_Angeles:20180313T043000
DTEND;TZID=America/Los_Angeles:20180313T063000
DTSTAMP:20260423T142236
CREATED:20180116T073820Z
LAST-MODIFIED:20180124T145709Z
UID:172-1520915400-1520922600@www.suretysandiego.org
SUMMARY:Past Presidents Lunchon
DESCRIPTION:
URL:https://www.suretysandiego.org/event/past-presidents-lunch-2018/
LOCATION:The Butcher Shop\, 5255 Kearny Villa Rd\, San Diego\, CA\, 92123\, United States
CATEGORIES:Lunch
ATTACH;FMTTYPE=image/jpeg:https://www.suretysandiego.org/wp-content/uploads/2018/01/The-Butcher-shop-1.jpg
ORGANIZER;CN="Megan Sanker":MAILTO:megan.sanker@cnasurety.com
END:VEVENT
END:VCALENDAR